Index of /checkResults/devel/bioc-LATEST/goSTAG/raw-results/lconway

[ICO]NameLast modifiedSizeDescription

[DIR]Parent Directory  -  
[TXT]buildbin-out.txt30-Jun-2022 00:05 1.2K 
[   ]buildbin-summary.dcf30-Jun-2022 00:05 524  
[TXT]buildsrc-out.txt30-Jun-2022 00:05 812  
[   ]buildsrc-summary.dcf30-Jun-2022 00:05 424  
[TXT]checksrc-out.txt30-Jun-2022 00:05 3.6K 
[   ]checksrc-summary.dcf30-Jun-2022 00:05 440  
[TXT]install-out.txt30-Jun-2022 00:05 1.0K 
[   ]install-summary.dcf30-Jun-2022 00:05 267