Index of /checkResults/devel/bioc-LATEST/geva/raw-results/kunpeng2
Name
Last modified
Size
Description
Parent Directory
-
install-summary.dcf
16-May-2024 02:46
264
install-out.txt
16-May-2024 02:46
965
buildsrc-summary.dcf
16-May-2024 02:46
339
buildsrc-out.txt
16-May-2024 02:46
1.8K