Name | Last modified | Size | Description | |
---|---|---|---|---|
Parent Directory | - | |||
checksrc-out.txt | 23-May-2024 00:36 | 10K | ||
buildbin-out.txt | 23-May-2024 00:36 | 3.9K | ||
buildsrc-out.txt | 12-Jun-2024 04:40 | 3.9K | ||
install-out.txt | 12-Jun-2024 04:40 | 3.8K | ||
buildbin-summary.dcf | 23-May-2024 00:36 | 533 | ||
checksrc-summary.dcf | 23-May-2024 00:36 | 465 | ||
buildsrc-summary.dcf | 12-Jun-2024 04:40 | 377 | ||
install-summary.dcf | 12-Jun-2024 04:40 | 274 | ||