Index of /checkResults/devel/bioc-LATEST/frenchFISH/raw-results/merida1

[ICO]NameLast modifiedSizeDescription

[DIR]Parent Directory  -  
[TXT]buildbin-out.txt29-Feb-2024 01:38 1.2K 
[   ]buildbin-summary.dcf29-Feb-2024 01:38 547  
[TXT]buildsrc-out.txt29-Feb-2024 01:38 828  
[   ]buildsrc-summary.dcf29-Feb-2024 01:38 436  
[TXT]checksrc-out.txt29-Feb-2024 01:38 3.2K 
[   ]checksrc-summary.dcf29-Feb-2024 01:38 455  
[TXT]install-out.txt29-Feb-2024 01:38 1.0K 
[   ]install-summary.dcf29-Feb-2024 01:38 274