Index of /checkResults/devel/bioc-LATEST/frenchFISH/raw-results/merida1

[ICO]NameLast modifiedSizeDescription

[DIR]Parent Directory  -  
[   ]install-summary.dcf05-Mar-2024 01:39 274  
[   ]buildsrc-summary.dcf05-Mar-2024 01:39 436  
[   ]checksrc-summary.dcf05-Mar-2024 01:39 455  
[   ]buildbin-summary.dcf05-Mar-2024 01:39 547  
[TXT]buildsrc-out.txt05-Mar-2024 01:39 828  
[TXT]install-out.txt05-Mar-2024 01:39 1.0K 
[TXT]buildbin-out.txt05-Mar-2024 01:39 1.2K 
[TXT]checksrc-out.txt05-Mar-2024 01:39 3.2K