Index of /checkResults/devel/bioc-LATEST/erma/raw-results

[ICO]NameLast modifiedSizeDescription

[DIR]Parent Directory  -  
[   ]info.dcf28-May-2022 00:03 261  
[DIR]lconway/25-May-2022 00:07 -  
[DIR]nebbiolo2/28-May-2022 00:02 -  
[DIR]palomino4/28-May-2022 00:03 -