Index of /checkResults/devel/bioc-LATEST/epivizr/raw-results

[ICO]NameLast modifiedSizeDescription

[DIR]Parent Directory  -  
[   ]info.dcf25-Jun-2022 00:07 271  
[DIR]lconway/25-Jun-2022 00:07 -  
[DIR]nebbiolo2/25-Jun-2022 00:05 -  
[DIR]palomino4/25-Jun-2022 00:06 -