![]() | Name | Last modified | Size | Description |
---|---|---|---|---|
![]() | Parent Directory | - | ||
![]() | buildsrc-out.txt | 24-Sep-2023 00:39 | 1.2K | |
![]() | buildsrc-summary.dcf | 24-Sep-2023 00:39 | 411 | |
![]() | checksrc-out.txt | 24-Sep-2023 00:39 | 3.5K | |
![]() | checksrc-summary.dcf | 24-Sep-2023 00:39 | 402 | |
![]() | install-out.txt | 24-Sep-2023 00:39 | 948 | |
![]() | install-summary.dcf | 24-Sep-2023 00:39 | 253 | |