Index of /checkResults/devel/bioc-LATEST/epistack/raw-results

[ICO]NameLast modifiedSizeDescription

[DIR]Parent Directory  -  
[   ]info.dcf10-Jun-2023 01:36 272  
[DIR]kunpeng2/10-Jun-2023 01:36 -  
[DIR]lconway/10-Jun-2023 01:36 -  
[DIR]nebbiolo2/10-Jun-2023 01:35 -  
[DIR]palomino4/09-Jun-2023 02:04 -