Index of /checkResults/devel/bioc-LATEST/epistack/raw-results/lconway

[ICO]NameLast modifiedSizeDescription

[DIR]Parent Directory  -  
[TXT]buildbin-out.txt05-Jul-2022 00:07 1.2K 
[   ]buildbin-summary.dcf05-Jul-2022 00:07 533  
[TXT]buildsrc-out.txt05-Jul-2022 00:07 882  
[   ]buildsrc-summary.dcf05-Jul-2022 00:07 428  
[TXT]checksrc-out.txt05-Jul-2022 00:07 3.2K 
[   ]checksrc-summary.dcf05-Jul-2022 00:07 446  
[TXT]install-out.txt05-Jul-2022 00:07 1.0K 
[   ]install-summary.dcf05-Jul-2022 00:07 270