Index of /checkResults/devel/bioc-LATEST/epiNEM/raw-results

[ICO]NameLast modifiedSizeDescription

[DIR]Parent Directory  -  
[   ]info.dcf08-Dec-2023 02:27 1.0K 
[DIR]kunpeng2/08-Dec-2023 02:27 -  
[DIR]merida1/08-Dec-2023 02:26 -  
[DIR]nebbiolo1/08-Dec-2023 02:23 -  
[DIR]palomino3/08-Dec-2023 02:24 -