Index of /checkResults/devel/bioc-LATEST/ensemblVEP/raw-results/lconway
Name
Last modified
Size
Description
Parent Directory
-
install-summary.dcf
02-May-2024 00:36
275
install-out.txt
02-May-2024 00:36
1.3K
buildsrc-summary.dcf
02-May-2024 00:36
349
buildsrc-out.txt
02-May-2024 00:36
5.4K