Index of /checkResults/devel/bioc-LATEST/ensemblVEP/raw-results

[ICO]NameLast modifiedSizeDescription

[DIR]Parent Directory  -  
[   ]info.dcf24-May-2022 00:07 297  
[DIR]lconway/24-May-2022 00:07 -  
[DIR]nebbiolo2/24-May-2022 00:05 -