Name | Last modified | Size | Description | |
---|---|---|---|---|
Parent Directory | - | |||
buildsrc-out.txt | 29-Mar-2024 00:40 | 827 | ||
buildsrc-summary.dcf | 29-Mar-2024 00:40 | 436 | ||
checksrc-out.txt | 29-Mar-2024 00:40 | 4.7K | ||
checksrc-summary.dcf | 29-Mar-2024 00:40 | 459 | ||
install-out.txt | 29-Mar-2024 00:40 | 1.3K | ||
install-summary.dcf | 29-Mar-2024 00:40 | 274 | ||