Index of /checkResults/devel/bioc-LATEST/decompTumor2Sig/raw-results/nebbiolo2

[ICO]NameLast modifiedSizeDescription

[DIR]Parent Directory  -  
[TXT]buildsrc-out.txt02-Jul-2022 00:04 838  
[   ]buildsrc-summary.dcf02-Jul-2022 00:04 442  
[TXT]checksrc-out.txt02-Jul-2022 00:04 3.2K 
[   ]checksrc-summary.dcf02-Jul-2022 00:04 456  
[TXT]install-out.txt02-Jul-2022 00:04 971  
[   ]install-summary.dcf02-Jul-2022 00:04 275