Index of /checkResults/devel/bioc-LATEST/decompTumor2Sig/raw-results/nebbiolo2

[ICO]NameLast modifiedSizeDescription

[DIR]Parent Directory  -  
[   ]install-summary.dcf26-Jul-2024 00:38 275  
[   ]buildsrc-summary.dcf26-Jul-2024 00:38 448  
[   ]checksrc-summary.dcf26-Jul-2024 00:38 452  
[TXT]buildsrc-out.txt26-Jul-2024 00:38 862  
[TXT]install-out.txt26-Jul-2024 00:38 1.0K 
[TXT]checksrc-out.txt26-Jul-2024 00:38 4.6K