Index of /checkResults/devel/bioc-LATEST/decompTumor2Sig/raw-results
Name
Last modified
Size
Description
Parent Directory
-
nebbiolo2/
07-Jun-2023 00:05
-
palomino4/
07-Jun-2023 00:06
-
info.dcf
07-Jun-2023 00:07
279
lconway/
07-Jun-2023 00:07
-