![]() | Name | Last modified | Size | Description |
---|---|---|---|---|
![]() | Parent Directory | - | ||
![]() | buildsrc-out.txt | 03-Dec-2023 01:38 | 799 | |
![]() | buildsrc-summary.dcf | 03-Dec-2023 01:38 | 413 | |
![]() | checksrc-out.txt | 03-Dec-2023 01:38 | 4.7K | |
![]() | checksrc-summary.dcf | 03-Dec-2023 01:38 | 430 | |
![]() | install-out.txt | 03-Dec-2023 01:38 | 966 | |
![]() | install-summary.dcf | 03-Dec-2023 01:38 | 260 | |