Index of /checkResults/devel/bioc-LATEST/ctc/raw-results/kunpeng2

[ICO]NameLast modifiedSizeDescription

[DIR]Parent Directory  -  
[   ]install-summary.dcf18-Feb-2024 16:29 263  
[TXT]install-out.txt18-Feb-2024 16:29 972  
[   ]checksrc-summary.dcf18-Feb-2024 16:29 436  
[TXT]checksrc-out.txt18-Feb-2024 16:29 4.7K 
[   ]buildsrc-summary.dcf18-Feb-2024 16:29 416  
[TXT]buildsrc-out.txt18-Feb-2024 16:29 802