Index of /checkResults/devel/bioc-LATEST/crisprBase/raw-results
Name
Last modified
Size
Description
Parent Directory
-
info.dcf
04-May-2024 00:35
276
nebbiolo2/
04-May-2024 00:36
-
palomino4/
04-May-2024 00:37
-
merida1/
04-May-2024 00:38
-