Index of /checkResults/devel/bioc-LATEST/consensusSeekeR/raw-results

[ICO]NameLast modifiedSizeDescription

[DIR]Parent Directory  -  
[   ]info.dcf03-Dec-2021 02:32 285  
[DIR]nebbiolo1/03-Dec-2021 02:32 -