Name | Last modified | Size | Description | |
---|---|---|---|---|
Parent Directory | - | |||
buildsrc-out.txt | 29-Mar-2024 00:40 | 910 | ||
buildsrc-summary.dcf | 29-Mar-2024 00:40 | 450 | ||
checksrc-out.txt | 29-Mar-2024 00:40 | 12K | ||
checksrc-summary.dcf | 29-Mar-2024 00:40 | 479 | ||
install-out.txt | 29-Mar-2024 00:40 | 1.0K | ||
install-summary.dcf | 29-Mar-2024 00:40 | 284 | ||