Name | Last modified | Size | Description | |
---|---|---|---|---|
Parent Directory | - | |||
install-out.txt | 27-Jul-2024 00:39 | 1.3K | ||
install-summary.dcf | 27-Jul-2024 00:39 | 265 | ||
buildsrc-summary.dcf | 27-Jul-2024 00:39 | 445 | ||
buildsrc-out.txt | 27-Jul-2024 00:39 | 889 | ||
checksrc-out.txt | 27-Jul-2024 00:39 | 8.2K | ||
checksrc-summary.dcf | 27-Jul-2024 00:39 | 443 | ||
buildbin-out.txt | 27-Jul-2024 00:39 | 1.4K | ||
buildbin-summary.dcf | 27-Jul-2024 00:39 | 503 | ||