Name | Last modified | Size | Description | |
---|---|---|---|---|
Parent Directory | - | |||
install-summary.dcf | 17-Jul-2024 00:40 | 270 | ||
buildsrc-summary.dcf | 17-Jul-2024 00:40 | 451 | ||
checksrc-summary.dcf | 17-Jul-2024 00:40 | 455 | ||
buildbin-summary.dcf | 17-Jul-2024 00:40 | 509 | ||
buildsrc-out.txt | 17-Jul-2024 00:40 | 895 | ||
install-out.txt | 17-Jul-2024 00:40 | 1.3K | ||
buildbin-out.txt | 17-Jul-2024 00:40 | 1.4K | ||
checksrc-out.txt | 17-Jul-2024 00:40 | 8.3K | ||