Name | Last modified | Size | Description | |
---|---|---|---|---|
Parent Directory | - | |||
checksrc-out.txt | 21-May-2024 00:36 | 8.2K | ||
checksrc-summary.dcf | 21-May-2024 00:36 | 443 | ||
buildbin-out.txt | 21-May-2024 00:36 | 1.4K | ||
buildbin-summary.dcf | 21-May-2024 00:36 | 503 | ||
install-out.txt | 12-Jun-2024 04:40 | 1.3K | ||
install-summary.dcf | 12-Jun-2024 04:40 | 264 | ||
buildsrc-out.txt | 12-Jun-2024 04:40 | 16K | ||
buildsrc-summary.dcf | 12-Jun-2024 04:40 | 363 | ||