Name | Last modified | Size | Description | |
---|---|---|---|---|
Parent Directory | - | |||
buildsrc-out.txt | 28-Jul-2024 00:38 | 885 | ||
buildsrc-summary.dcf | 28-Jul-2024 00:38 | 418 | ||
checksrc-out.txt | 28-Jul-2024 00:38 | 6.4K | ||
checksrc-summary.dcf | 28-Jul-2024 00:38 | 412 | ||
install-out.txt | 28-Jul-2024 00:38 | 1.2K | ||
install-summary.dcf | 28-Jul-2024 00:38 | 255 | ||