Name | Last modified | Size | Description | |
---|---|---|---|---|
Parent Directory | - | |||
checksrc-summary.dcf | 05-Jun-2024 03:35 | 443 | ||
checksrc-out.txt | 05-Jun-2024 03:35 | 6.7K | ||
buildbin-out.txt | 05-Jun-2024 03:35 | 1.4K | ||
buildbin-summary.dcf | 05-Jun-2024 03:35 | 519 | ||
install-summary.dcf | 12-Jun-2024 04:41 | 266 | ||
install-out.txt | 12-Jun-2024 04:41 | 1.3K | ||
buildsrc-summary.dcf | 12-Jun-2024 04:41 | 340 | ||
buildsrc-out.txt | 12-Jun-2024 04:41 | 6.5K | ||