Index of /checkResults/devel/bioc-LATEST/clusterProfiler/raw-results
Name
Last modified
Size
Description
Parent Directory
-
info.dcf
07-May-2024 00:35
285
nebbiolo2/
07-May-2024 00:35
-
palomino4/
07-May-2024 00:36
-
merida1/
07-May-2024 00:37
-