Index of /checkResults/devel/bioc-LATEST/clusterExperiment/raw-results/nebbiolo2

[ICO]NameLast modifiedSizeDescription

[DIR]Parent Directory  -  
[TXT]buildsrc-out.txt18-Jun-2024 01:22 963  
[   ]buildsrc-summary.dcf18-Jun-2024 01:22 454  
[TXT]checksrc-out.txt18-Jun-2024 01:22 15K 
[   ]checksrc-summary.dcf18-Jun-2024 01:22 461  
[TXT]install-out.txt18-Jun-2024 01:22 2.6K 
[   ]install-summary.dcf18-Jun-2024 01:22 279