Index of /checkResults/devel/bioc-LATEST/clusterExperiment/raw-results/nebbiolo2

[ICO]NameLast modifiedSizeDescription

[DIR]Parent Directory  -  
[   ]install-summary.dcf24-Jul-2024 00:38 279  
[TXT]install-out.txt24-Jul-2024 00:38 2.6K 
[   ]checksrc-summary.dcf24-Jul-2024 00:38 461  
[TXT]checksrc-out.txt24-Jul-2024 00:38 15K 
[   ]buildsrc-summary.dcf24-Jul-2024 00:38 454  
[TXT]buildsrc-out.txt24-Jul-2024 00:38 963