Name | Last modified | Size | Description | |
---|---|---|---|---|
Parent Directory | - | |||
checksrc-out.txt | 28-Jul-2024 00:38 | 5.5K | ||
install-out.txt | 28-Jul-2024 00:38 | 1.0K | ||
buildsrc-out.txt | 28-Jul-2024 00:38 | 925 | ||
buildsrc-summary.dcf | 28-Jul-2024 00:38 | 448 | ||
checksrc-summary.dcf | 28-Jul-2024 00:38 | 446 | ||
install-summary.dcf | 28-Jul-2024 00:38 | 275 | ||