Name | Last modified | Size | Description | |
---|---|---|---|---|
Parent Directory | - | |||
checksrc-summary.dcf | 09-Jul-2024 00:44 | 346 | ||
checksrc-out.txt | 09-Jul-2024 00:44 | 5.6K | ||
buildsrc-summary.dcf | 09-Jul-2024 00:44 | 430 | ||
buildsrc-out.txt | 09-Jul-2024 00:44 | 889 | ||
install-summary.dcf | 06-Jul-2024 00:44 | 265 | ||
install-out.txt | 06-Jul-2024 00:44 | 635 | ||