Name | Last modified | Size | Description | |
---|---|---|---|---|
Parent Directory | - | |||
buildbin-summary.dcf | 17-Jul-2024 00:40 | 527 | ||
buildbin-out.txt | 17-Jul-2024 00:40 | 2.1K | ||
checksrc-summary.dcf | 17-Jul-2024 00:40 | 463 | ||
checksrc-out.txt | 17-Jul-2024 00:40 | 4.8K | ||
buildsrc-summary.dcf | 17-Jul-2024 00:40 | 462 | ||
buildsrc-out.txt | 17-Jul-2024 00:40 | 942 | ||
install-out.txt | 17-Jul-2024 00:40 | 1.9K | ||
install-summary.dcf | 17-Jul-2024 00:40 | 276 | ||