Index of /checkResults/devel/bioc-LATEST/brendaDb/raw-results

[ICO]NameLast modifiedSizeDescription

[DIR]Parent Directory  -  
[   ]info.dcf27-Feb-2024 03:56 256  
[DIR]kunpeng2/27-Feb-2024 04:01 -  
[DIR]merida1/27-Feb-2024 04:00 -  
[DIR]nebbiolo1/27-Feb-2024 03:58 -  
[DIR]palomino3/27-Feb-2024 03:59 -