Index of /checkResults/devel/bioc-LATEST/bioassayR/raw-results/merida1
Name
Last modified
Size
Description
Parent Directory
-
buildsrc-out.txt
02-May-2024 00:39
2.2K
buildsrc-summary.dcf
02-May-2024 00:39
347
install-out.txt
02-May-2024 00:39
1.1K
install-summary.dcf
02-May-2024 00:39
273