Name | Last modified | Size | Description | |
---|---|---|---|---|
Parent Directory | - | |||
install-out.txt | 28-Jun-2024 00:38 | 1.0K | ||
install-summary.dcf | 28-Jun-2024 00:38 | 266 | ||
buildsrc-out.txt | 28-Jun-2024 00:38 | 875 | ||
buildsrc-summary.dcf | 28-Jun-2024 00:38 | 425 | ||
checksrc-out.txt | 28-Jun-2024 00:38 | 3.4K | ||
checksrc-summary.dcf | 28-Jun-2024 00:38 | 439 | ||
buildbin-out.txt | 28-Jun-2024 00:38 | 1.1K | ||
buildbin-summary.dcf | 28-Jun-2024 00:38 | 523 | ||