Index of /checkResults/devel/bioc-LATEST/baySeq/raw-results
Name
Last modified
Size
Description
Parent Directory
-
info.dcf
04-Jun-2023 00:06
265
lconway/
04-Jun-2023 00:06
-
nebbiolo2/
04-Jun-2023 00:05
-
palomino4/
04-Jun-2023 00:05
-