Index of /checkResults/devel/bioc-LATEST/baySeq/raw-results
Name
Last modified
Size
Description
Parent Directory
-
lconway/
02-Jul-2022 00:07
-
nebbiolo2/
02-Jul-2022 00:04
-
palomino4/
02-Jul-2022 00:05
-
info.dcf
02-Jul-2022 00:07
266