Index of /checkResults/devel/bioc-LATEST/artMS/raw-results

[ICO]NameLast modifiedSizeDescription

[DIR]Parent Directory  -  
[DIR]nebbiolo2/24-Sep-2023 00:35 -  
[DIR]palomino4/24-Sep-2023 00:37 -  
[DIR]lconway/24-Sep-2023 00:38 -  
[   ]info.dcf24-Sep-2023 00:39 269  
[DIR]kunpeng2/24-Sep-2023 00:39 -