Index of /checkResults/devel/bioc-LATEST/artMS/raw-results/nebbiolo2

[ICO]NameLast modifiedSizeDescription

[DIR]Parent Directory  -  
[TXT]buildsrc-out.txt30-Sep-2023 01:02 798  
[   ]buildsrc-summary.dcf30-Sep-2023 01:02 411  
[TXT]checksrc-out.txt30-Sep-2023 01:02 3.4K 
[   ]checksrc-summary.dcf30-Sep-2023 01:02 406  
[TXT]install-out.txt30-Sep-2023 01:02 1.0K 
[   ]install-summary.dcf30-Sep-2023 01:02 255