Index of /checkResults/devel/bioc-LATEST/annotatr/raw-results/nebbiolo2

[ICO]NameLast modifiedSizeDescription

[DIR]Parent Directory  -  
[TXT]buildsrc-out.txt18-Jun-2024 01:22 1.1K 
[   ]buildsrc-summary.dcf18-Jun-2024 01:22 426  
[TXT]checksrc-out.txt18-Jun-2024 01:22 3.7K 
[   ]checksrc-summary.dcf18-Jun-2024 01:22 418  
[TXT]install-out.txt18-Jun-2024 01:22 1.0K 
[   ]install-summary.dcf18-Jun-2024 01:22 261