Index of /checkResults/devel/bioc-LATEST/annotatr/raw-results/nebbiolo2

[ICO]NameLast modifiedSizeDescription

[DIR]Parent Directory  -  
[   ]install-summary.dcf21-Jul-2024 02:54 261  
[TXT]install-out.txt21-Jul-2024 02:54 1.0K 
[   ]checksrc-summary.dcf14-Jul-2024 00:38 418  
[TXT]checksrc-out.txt14-Jul-2024 00:38 3.7K 
[   ]buildsrc-summary.dcf21-Jul-2024 02:54 341  
[TXT]buildsrc-out.txt21-Jul-2024 02:54 1.2K