Index of /checkResults/devel/bioc-LATEST/annotatr/raw-results
Name
Last modified
Size
Description
Parent Directory
-
palomino4/
07-Jun-2023 00:06
-
nebbiolo2/
07-Jun-2023 00:05
-
lconway/
07-Jun-2023 00:07
-
info.dcf
07-Jun-2023 00:07
273