Index of /checkResults/devel/bioc-LATEST/adductomicsR/raw-results/lconway

[ICO]NameLast modifiedSizeDescription

[DIR]Parent Directory  -  
[TXT]buildbin-out.txt12-Jul-2024 01:00 1.2K 
[   ]buildbin-summary.dcf12-Jul-2024 01:00 560  
[TXT]buildsrc-out.txt12-Jul-2024 01:00 836  
[   ]buildsrc-summary.dcf12-Jul-2024 01:00 441  
[TXT]checksrc-out.txt12-Jul-2024 01:00 3.9K 
[   ]checksrc-summary.dcf12-Jul-2024 01:00 470  
[TXT]install-out.txt12-Jul-2024 01:00 1.0K 
[   ]install-summary.dcf12-Jul-2024 01:00 279