Index of /checkResults/devel/bioc-LATEST/adductomicsR/raw-results/lconway

[ICO]NameLast modifiedSizeDescription

[DIR]Parent Directory  -  
[   ]install-summary.dcf18-Aug-2022 00:07 279  
[TXT]install-out.txt18-Aug-2022 00:07 1.0K 
[TXT]buildsrc-out.txt18-Aug-2022 00:07 836  
[   ]buildsrc-summary.dcf18-Aug-2022 00:07 443  
[TXT]checksrc-out.txt18-Aug-2022 00:07 3.7K 
[   ]checksrc-summary.dcf18-Aug-2022 00:07 470  
[TXT]buildbin-out.txt18-Aug-2022 00:07 1.2K 
[   ]buildbin-summary.dcf18-Aug-2022 00:07 560