Index of /checkResults/devel/bioc-LATEST/adSplit/raw-results
Name
Last modified
Size
Description
Parent Directory
-
info.dcf
01-Apr-2023 00:02
285
merida1/
30-Mar-2023 00:06
-
nebbiolo1/
01-Apr-2023 00:02
-
palomino3/
01-Apr-2023 00:02
-