Name | Last modified | Size | Description | |
---|---|---|---|---|
Parent Directory | - | |||
install-summary.dcf | 28-Jul-2024 00:40 | 278 | ||
install-out.txt | 28-Jul-2024 00:40 | 1.0K | ||
checksrc-summary.dcf | 28-Jul-2024 00:40 | 506 | ||
checksrc-out.txt | 28-Jul-2024 00:40 | 6.8K | ||
buildsrc-summary.dcf | 28-Jul-2024 00:40 | 472 | ||
buildsrc-out.txt | 28-Jul-2024 00:40 | 924 | ||
buildbin-summary.dcf | 28-Jul-2024 00:40 | 545 | ||
buildbin-out.txt | 28-Jul-2024 00:40 | 1.1K | ||