Index of /checkResults/devel/bioc-LATEST/VERSO/raw-results/kunpeng2
Name
Last modified
Size
Description
Parent Directory
-
install-summary.dcf
16-May-2024 02:46
265
install-out.txt
16-May-2024 02:46
1.0K
buildsrc-summary.dcf
16-May-2024 02:46
422
buildsrc-out.txt
16-May-2024 02:46
872