Index of /checkResults/devel/bioc-LATEST/VERSO/raw-results
Name
Last modified
Size
Description
Parent Directory
-
info.dcf
29-Jan-2023 01:10
268
merida1/
29-Jan-2023 01:10
-
nebbiolo1/
29-Jan-2023 01:06
-
palomino3/
29-Jan-2023 01:08
-