Index of /checkResults/devel/bioc-LATEST/VCFArray/raw-results

[ICO]NameLast modifiedSizeDescription

[DIR]Parent Directory  -  
[DIR]kunpeng2/16-May-2024 02:46 -  
[DIR]merida1/23-May-2024 00:38 -  
[DIR]nebbiolo2/23-May-2024 00:36 -  
[DIR]palomino4/23-May-2024 00:37 -  
[   ]info.dcf23-May-2024 00:35 259